BEGIN:VCALENDAR
VERSION:2.0
PRODID:icalendar-ruby
CALSCALE:GREGORIAN
METHOD:PUBLISH
BEGIN:VEVENT
DTSTAMP:20260419T123133Z
UID:156-413195@shadowrock.tithelysetup5.com
DTSTART:20261029T010000Z
DTEND:20261029T020000Z
CLASS:PUBLIC
CREATED:20260419T050146
DESCRIPTION:Young Adults is a place to connect\, grow\, and build real frie
 ndships. Life moves fast in this season\, and you don’t have to navigate
  it alone. Each week we gather for meaningful conversations\, teaching\, a
 nd time in Scripture creating space to ask real questions\, encourage one 
 another\, and grow in our walk with Christ. Whether you’re in college\, 
 starting a career\, or figuring out what’s next\, you’ll find communit
 y and belonging here.
LAST-MODIFIED:20260419T050146
LOCATION:Shadow Rock Church
SUMMARY:Young Adults
URL;VALUE=URI:https://shadowrockchurch.com/events/young-adults/2026-10-28
ATTACH;FILENAME=Young-Adults.PNG;FMTTYPE=image/png:https://dq5pwpg1q8ru0.cl
 oudfront.net/2025/12/10/15/40/41/bb89d58d-db53-4a25-b4ae-807a931ce205/Youn
 g-Adults.PNG
END:VEVENT
END:VCALENDAR
